View In:
ArcGIS JavaScript
ArcGIS Online map viewer
Google Earth
ArcMap
View Footprint In:
ArcGIS Online map viewer
Service Description: sjovar/Sjovar_stadarnavnakort_Heygshagi
Name: sjovar/Sjovar_stadarnavnakort_Heygshagi
Description: sjovar/Sjovar_stadarnavnakort_Heygshagi
Single Fused Map Cache: false
Extent:
XMin: 207439.1284572698
YMin: 885562.9616528886
XMax: 215385.08014975186
YMax: 894724.5233284972
Spatial Reference: 5316
(5316)
Initial Extent:
XMin: 207439.1284572698
YMin: 885562.9616528886
XMax: 215385.08014975186
YMax: 894724.5233284972
Spatial Reference: 5316
(5316)
Full Extent:
XMin: 207439.1284572698
YMin: 885562.9616528886
XMax: 215385.08014975186
YMax: 894724.5233284972
Spatial Reference: 5316
(5316)
Pixel Size X: 2.6112230340065885
Pixel Size Y: 2.6116196338679085
Band Count: 3
Pixel Type: U8
RasterFunction Infos: {"name":"None","description":"","help":""}
Mensuration Capabilities: Basic
Has Histograms: true
Has Colormap: false
Has Multi Dimensions : false
Rendering Rule:
Min Scale: 0
Max Scale: 0
Copyright Text:
Service Data Type: esriImageServiceDataTypeRGB
Min Values: 0, 0, 0
Max Values: 255, 255, 255
Mean Values: 209.99599178484775, 206.03026213917292, 190.3672479994176
Standard Deviation Values: 50.25259410147094, 50.51875601247668, 62.96310455242206
Object ID Field:
Fields:
None
Default Mosaic Method: Center
Allowed Mosaic Methods:
SortField:
SortValue: null
Mosaic Operator: First
Default Compression Quality: 75
Default Resampling Method: Bilinear
Max Record Count: null
Max Image Height: 4100
Max Image Width: 15000
Max Download Image Count: null
Max Mosaic Image Count: null
Allow Raster Function: true
Allow Compute TiePoints: false
Supports Statistics: false
Supports Advanced Queries: false
Use StandardizedQueries: false
Raster Type Infos:
Name: Raster Dataset
Description: Supports all ArcGIS Raster Datasets
Help:
Has Raster Attribute Table: false
Edit Fields Info: null
Ownership Based AccessControl For Rasters: null
Child Resources:
Info
Histograms
Key Properties
Legend
MultiDimensionalInfo
rasterFunctionInfos
Supported Operations:
Export Image
Identify
Measure
Compute Histograms
Compute Statistics Histograms
Get Samples
Compute Class Statistics