{
 "currentVersion": 10.51,
 "serviceDescription": "sjovar/Sjovar_stadarnavnakort_Heygshagi",
 "name": "sjovar/Sjovar_stadarnavnakort_Heygshagi",
 "description": "sjovar/Sjovar_stadarnavnakort_Heygshagi",
 "extent": {
  "xmin": 207439.1284572698,
  "ymin": 885562.9616528886,
  "xmax": 215385.08014975186,
  "ymax": 894724.5233284972,
  "spatialReference": {
   "wkid": 5316,
   "latestWkid": 5316
  }
 },
 "initialExtent": {
  "xmin": 207439.1284572698,
  "ymin": 885562.9616528886,
  "xmax": 215385.08014975186,
  "ymax": 894724.5233284972,
  "spatialReference": {
   "wkid": 5316,
   "latestWkid": 5316
  }
 },
 "fullExtent": {
  "xmin": 207439.1284572698,
  "ymin": 885562.9616528886,
  "xmax": 215385.08014975186,
  "ymax": 894724.5233284972,
  "spatialReference": {
   "wkid": 5316,
   "latestWkid": 5316
  }
 },
 "heightModelInfo": {
  "heightModel": "orthometric",
  "heightUnit": "meter"
 },
 "pixelSizeX": 2.6112230340065885,
 "pixelSizeY": 2.6116196338679085,
 "bandCount": 3,
 "pixelType": "U8",
 "minPixelSize": 0,
 "maxPixelSize": 0,
 "copyrightText": "",
 "serviceDataType": "esriImageServiceDataTypeRGB",
 "minValues": [
  0,
  0,
  0
 ],
 "maxValues": [
  255,
  255,
  255
 ],
 "meanValues": [
  209.99599178484775,
  206.03026213917292,
  190.3672479994176
 ],
 "stdvValues": [
  50.25259410147094,
  50.51875601247668,
  62.96310455242206
 ],
 "objectIdField": "",
 "fields": [],
 "capabilities": "Image,Metadata,Mensuration",
 "defaultMosaicMethod": "Center",
 "allowedMosaicMethods": "",
 "sortField": "",
 "sortValue": null,
 "mosaicOperator": "First",
 "defaultCompressionQuality": 75,
 "defaultResamplingMethod": "Bilinear",
 "maxImageHeight": 4100,
 "maxImageWidth": 15000,
 "allowRasterFunction": true,
 "rasterFunctionInfos": [
  {
   "name": "None",
   "description": "",
   "help": ""
  }
 ],
 "rasterTypeInfos": [
  {
   "name": "Raster Dataset",
   "description": "Supports all ArcGIS Raster Datasets",
   "help": ""
  }
 ],
 "mensurationCapabilities": "Basic",
 "hasHistograms": true,
 "hasColormap": false,
 "hasRasterAttributeTable": false,
 "minScale": 0,
 "maxScale": 0,
 "exportTilesAllowed": false,
 "hasMultidimensions": false,
 "supportsStatistics": false,
 "supportsAdvancedQueries": false,
 "editFieldsInfo": null,
 "ownershipBasedAccessControlForRasters": null,
 "allowComputeTiePoints": false,
 "useStandardizedQueries": false,
 "advancedQueryCapabilities": {
  "useStandardizedQueries": false,
  "supportsStatistics": false,
  "supportsOrderBy": false,
  "supportsDistinct": false,
  "supportsPagination": false
 },
 "spatialReference": {
  "wkid": 5316,
  "latestWkid": 5316
 }
}
