View In:
ArcGIS JavaScript
ArcGIS Online map viewer
Google Earth
ArcMap
View Footprint In:
ArcGIS Online map viewer
Service Description: Dátur frá Umhvørvisstovuni:
Anirnar_2019_10cm.tif
Arnafjordur_2009_14cm.tif
Husar_2019_10cm.tif
Klaksvik_2019_10cm.tif
Mikladalur_2019_10cm.tif
Nordoyri_2019_10cm.tif
Svinoy_2009_14cm.tif
Trollanes_2009_14cm.tif
Tikið niður í mars 2021
Name: klaksvikar/klaksvikar_loftmyndir_us
Description: Dátur frá Umhvørvisstovuni:
Anirnar_2019_10cm.tif
Arnafjordur_2009_14cm.tif
Husar_2019_10cm.tif
Klaksvik_2019_10cm.tif
Mikladalur_2019_10cm.tif
Nordoyri_2019_10cm.tif
Svinoy_2009_14cm.tif
Trollanes_2009_14cm.tif
Tikið niður í mars 2021
Single Fused Map Cache: false
Extent:
XMin: 209904.18879400016
YMin: 900095.9506230002
XMax: 235117.9887939998
YMax: 917561.5506229999
Spatial Reference: 5316
(5316)
Initial Extent:
XMin: 209904.18879400016
YMin: 900095.9506230002
XMax: 235117.9887939998
YMax: 917561.5506229999
Spatial Reference: 5316
(5316)
Full Extent:
XMin: 209904.18879400016
YMin: 900095.9506230002
XMax: 235117.9887939998
YMax: 917561.5506229999
Spatial Reference: 5316
(5316)
Pixel Size X: 0.09999999999999856
Pixel Size Y: 0.09999999999999853
Band Count: 3
Pixel Type: U8
RasterFunction Infos: {"name":"None","description":"","help":""}
Mensuration Capabilities: Basic
Has Histograms: true
Has Colormap: false
Has Multi Dimensions : false
Rendering Rule:
Min Scale: 0
Max Scale: 0
Copyright Text: ©Umhvørvisstovan
Service Data Type: esriImageServiceDataTypeRGB
Min Values: 0.0019607843137254832, 0.0019607843137254832, 0.0019607843137254832
Max Values: 254.99803921568628, 254.99803921568628, 254.99803921568628
Mean Values: 123.66428000798835, 127.74893382698099, 103.59748920950045
Standard Deviation Values: 37.790472281062435, 31.07756490569811, 35.18881421912257
Object ID Field: OBJECTID
Fields:
-
OBJECTID
(
type: esriFieldTypeOID
, alias: OBJECTID
)
-
Shape
(
type: esriFieldTypeGeometry
, alias: Shape
)
-
Name
(
type: esriFieldTypeString
, alias: Name
, length: 200
)
-
MinPS
(
type: esriFieldTypeDouble
, alias: MinPS
)
-
MaxPS
(
type: esriFieldTypeDouble
, alias: MaxPS
)
-
LowPS
(
type: esriFieldTypeDouble
, alias: LowPS
)
-
HighPS
(
type: esriFieldTypeDouble
, alias: HighPS
)
-
Category
(
type: esriFieldTypeInteger
, alias: Category
, Coded Values:
[0: Unknown]
, [1: Primary]
, [2: Overview]
, ...6 more...
)
-
Tag
(
type: esriFieldTypeString
, alias: Tag
, length: 100
)
-
GroupName
(
type: esriFieldTypeString
, alias: GroupName
, length: 100
)
-
ProductName
(
type: esriFieldTypeString
, alias: ProductName
, length: 100
)
-
CenterX
(
type: esriFieldTypeDouble
, alias: CenterX
)
-
CenterY
(
type: esriFieldTypeDouble
, alias: CenterY
)
-
ZOrder
(
type: esriFieldTypeInteger
, alias: ZOrder
)
-
Shape_Length
(
type: esriFieldTypeDouble
, alias: Shape_Length
)
-
Shape_Area
(
type: esriFieldTypeDouble
, alias: Shape_Area
)
Default Mosaic Method: Northwest
Allowed Mosaic Methods: NorthWest,Center,LockRaster,ByAttribute,Nadir,Viewpoint,Seamline,None
SortField:
SortValue: null
Mosaic Operator: First
Default Compression Quality: 75
Default Resampling Method: Bilinear
Max Record Count: 1000
Max Image Height: 4100
Max Image Width: 15000
Max Download Image Count: 20
Max Mosaic Image Count: 20
Allow Raster Function: true
Allow Compute TiePoints: false
Supports Statistics: true
Supports Advanced Queries: true
Use StandardizedQueries: false
Raster Type Infos:
Name: Raster Dataset
Description: Supports all ArcGIS Raster Datasets
Help:
Has Raster Attribute Table: false
Edit Fields Info: null
Ownership Based AccessControl For Rasters: null
Child Resources:
Info
Histograms
Key Properties
Legend
MultiDimensionalInfo
rasterFunctionInfos
Supported Operations:
Export Image
Query
Identify
Measure
Compute Histograms
Compute Statistics Histograms
Get Samples
Compute Class Statistics