{
 "currentVersion": 10.51,
 "serviceDescription": "Dátur frá Umhvørvisstovuni:\nAnirnar_2019_10cm.tif\nArnafjordur_2009_14cm.tif\nHusar_2019_10cm.tif\nKlaksvik_2019_10cm.tif\nMikladalur_2019_10cm.tif\nNordoyri_2019_10cm.tif\nSvinoy_2009_14cm.tif\nTrollanes_2009_14cm.tif\nTikið niður í mars 2021\n",
 "name": "klaksvikar/klaksvikar_loftmyndir_us",
 "description": "Dátur frá Umhvørvisstovuni:\nAnirnar_2019_10cm.tif\nArnafjordur_2009_14cm.tif\nHusar_2019_10cm.tif\nKlaksvik_2019_10cm.tif\nMikladalur_2019_10cm.tif\nNordoyri_2019_10cm.tif\nSvinoy_2009_14cm.tif\nTrollanes_2009_14cm.tif\nTikið niður í mars 2021\n",
 "extent": {
  "xmin": 209904.18879400016,
  "ymin": 900095.9506230002,
  "xmax": 235117.9887939998,
  "ymax": 917561.5506229999,
  "spatialReference": {
   "wkid": 5316,
   "latestWkid": 5316
  }
 },
 "initialExtent": {
  "xmin": 209904.18879400016,
  "ymin": 900095.9506230002,
  "xmax": 235117.9887939998,
  "ymax": 917561.5506229999,
  "spatialReference": {
   "wkid": 5316,
   "latestWkid": 5316
  }
 },
 "fullExtent": {
  "xmin": 209904.18879400016,
  "ymin": 900095.9506230002,
  "xmax": 235117.9887939998,
  "ymax": 917561.5506229999,
  "spatialReference": {
   "wkid": 5316,
   "latestWkid": 5316
  }
 },
 "heightModelInfo": {
  "heightModel": "orthometric",
  "heightUnit": "meter"
 },
 "pixelSizeX": 0.09999999999999856,
 "pixelSizeY": 0.09999999999999853,
 "bandCount": 3,
 "pixelType": "U8",
 "minPixelSize": 0,
 "maxPixelSize": 0,
 "copyrightText": "©Umhvørvisstovan",
 "serviceDataType": "esriImageServiceDataTypeRGB",
 "minValues": [
  0.0019607843137254832,
  0.0019607843137254832,
  0.0019607843137254832
 ],
 "maxValues": [
  254.99803921568628,
  254.99803921568628,
  254.99803921568628
 ],
 "meanValues": [
  123.66428000798835,
  127.74893382698099,
  103.59748920950045
 ],
 "stdvValues": [
  37.790472281062435,
  31.07756490569811,
  35.18881421912257
 ],
 "objectIdField": "OBJECTID",
 "fields": [
  {
   "name": "OBJECTID",
   "type": "esriFieldTypeOID",
   "alias": "OBJECTID",
   "domain": null
  },
  {
   "name": "Shape",
   "type": "esriFieldTypeGeometry",
   "alias": "Shape",
   "domain": null
  },
  {
   "name": "Name",
   "type": "esriFieldTypeString",
   "alias": "Name",
   "domain": null,
   "length": 200
  },
  {
   "name": "MinPS",
   "type": "esriFieldTypeDouble",
   "alias": "MinPS",
   "domain": null
  },
  {
   "name": "MaxPS",
   "type": "esriFieldTypeDouble",
   "alias": "MaxPS",
   "domain": null
  },
  {
   "name": "LowPS",
   "type": "esriFieldTypeDouble",
   "alias": "LowPS",
   "domain": null
  },
  {
   "name": "HighPS",
   "type": "esriFieldTypeDouble",
   "alias": "HighPS",
   "domain": null
  },
  {
   "name": "Category",
   "type": "esriFieldTypeInteger",
   "alias": "Category",
   "domain": {
    "type": "codedValue",
    "name": "MosaicCatalogItemCategoryDomain",
    "codedValues": [
     {
      "name": "Unknown",
      "code": 0
     },
     {
      "name": "Primary",
      "code": 1
     },
     {
      "name": "Overview",
      "code": 2
     },
     {
      "name": "Unprocessed Overview",
      "code": 3
     },
     {
      "name": "Partial Overview",
      "code": 4
     },
     {
      "name": "Inactive",
      "code": 5
     },
     {
      "name": "Uploaded",
      "code": 253
     },
     {
      "name": "Incomplete",
      "code": 254
     },
     {
      "name": "Custom",
      "code": 255
     }
    ],
    "mergePolicy": "esriMPTDefaultValue",
    "splitPolicy": "esriSPTDefaultValue"
   }
  },
  {
   "name": "Tag",
   "type": "esriFieldTypeString",
   "alias": "Tag",
   "domain": null,
   "length": 100
  },
  {
   "name": "GroupName",
   "type": "esriFieldTypeString",
   "alias": "GroupName",
   "domain": null,
   "length": 100
  },
  {
   "name": "ProductName",
   "type": "esriFieldTypeString",
   "alias": "ProductName",
   "domain": null,
   "length": 100
  },
  {
   "name": "CenterX",
   "type": "esriFieldTypeDouble",
   "alias": "CenterX",
   "domain": null
  },
  {
   "name": "CenterY",
   "type": "esriFieldTypeDouble",
   "alias": "CenterY",
   "domain": null
  },
  {
   "name": "ZOrder",
   "type": "esriFieldTypeInteger",
   "alias": "ZOrder",
   "domain": null
  },
  {
   "name": "Shape_Length",
   "type": "esriFieldTypeDouble",
   "alias": "Shape_Length",
   "domain": null
  },
  {
   "name": "Shape_Area",
   "type": "esriFieldTypeDouble",
   "alias": "Shape_Area",
   "domain": null
  }
 ],
 "capabilities": "Image,Metadata,Catalog,Mensuration",
 "defaultMosaicMethod": "Northwest",
 "allowedMosaicMethods": "NorthWest,Center,LockRaster,ByAttribute,Nadir,Viewpoint,Seamline,None",
 "sortField": "",
 "sortValue": null,
 "mosaicOperator": "First",
 "maxDownloadSizeLimit": 2048,
 "defaultCompressionQuality": 75,
 "defaultResamplingMethod": "Bilinear",
 "maxImageHeight": 4100,
 "maxImageWidth": 15000,
 "maxRecordCount": 1000,
 "maxDownloadImageCount": 20,
 "maxMosaicImageCount": 20,
 "allowRasterFunction": true,
 "rasterFunctionInfos": [
  {
   "name": "None",
   "description": "",
   "help": ""
  }
 ],
 "rasterTypeInfos": [
  {
   "name": "Raster Dataset",
   "description": "Supports all ArcGIS Raster Datasets",
   "help": ""
  }
 ],
 "mensurationCapabilities": "Basic",
 "hasHistograms": true,
 "hasColormap": false,
 "hasRasterAttributeTable": false,
 "minScale": 0,
 "maxScale": 0,
 "exportTilesAllowed": false,
 "hasMultidimensions": false,
 "supportsStatistics": true,
 "supportsAdvancedQueries": true,
 "editFieldsInfo": null,
 "ownershipBasedAccessControlForRasters": null,
 "allowComputeTiePoints": false,
 "useStandardizedQueries": false,
 "advancedQueryCapabilities": {
  "useStandardizedQueries": false,
  "supportsStatistics": true,
  "supportsOrderBy": true,
  "supportsDistinct": true,
  "supportsPagination": true
 },
 "spatialReference": {
  "wkid": 5316,
  "latestWkid": 5316
 }
}
