View In:
ArcGIS JavaScript
ArcGIS Online map viewer
Google Earth
ArcMap
View Footprint In:
ArcGIS Online map viewer
Service Description: Myndakort av Mykines. Mynd frá 2009, 40cm upploysn.
Name: sorvags/sorvags_mykines_myndakort
Description: Myndakort av Mykines. Mynd frá 2009, 40cm upploysn.
Single Fused Map Cache: false
Extent:
XMin: -857228.9399834245
YMin: 8879143.773931727
XMax: -836605.5648798014
YMax: 8889045.980158122
Spatial Reference: 102100
(3857)
Initial Extent:
XMin: -857228.9399834245
YMin: 8879143.773931727
XMax: -836605.5648798014
YMax: 8889045.980158122
Spatial Reference: 102100
(3857)
Full Extent:
XMin: -857228.9399834245
YMin: 8879143.773931727
XMax: -836605.5648798014
YMax: 8889045.980158122
Spatial Reference: 102100
(3857)
Pixel Size X: 0.41746134470222895
Pixel Size Y: 0.4174750199366519
Band Count: 3
Pixel Type: U8
RasterFunction Infos: {"name":"None","description":"","help":""}
Mensuration Capabilities: Basic
Has Histograms: false
Has Colormap: false
Has Multi Dimensions : false
Rendering Rule:
Min Scale: 577790.554289
Max Scale: 1128.497176
Copyright Text: © 2013 Munin
Service Data Type: esriImageServiceDataTypeRGB
Min Values: N/A
Max Values: N/A
Mean Values: N/A
Standard Deviation Values: N/A
Object ID Field:
Fields:
None
Default Mosaic Method: Center
Allowed Mosaic Methods:
SortField:
SortValue: null
Mosaic Operator: First
Default Compression Quality: 75
Default Resampling Method: Bilinear
Max Record Count: null
Max Image Height: 4100
Max Image Width: 15000
Max Download Image Count: null
Max Mosaic Image Count: null
Allow Raster Function: true
Allow Compute TiePoints: false
Supports Statistics: false
Supports Advanced Queries: false
Use StandardizedQueries: false
Raster Type Infos:
Name: Raster Dataset
Description: Supports all ArcGIS Raster Datasets
Help:
Has Raster Attribute Table: false
Edit Fields Info: null
Ownership Based AccessControl For Rasters: null
Child Resources:
Info
Key Properties
Legend
MultiDimensionalInfo
rasterFunctionInfos
Supported Operations:
Export Image
Identify
Measure
Compute Histograms
Compute Statistics Histograms
Get Samples
Compute Class Statistics