View In:
ArcGIS JavaScript
ArcGIS Online map viewer
Google Earth
ArcMap
View Footprint In:
ArcGIS Online map viewer
Service Description: Skannað tekning av Bíggjar bygd í 1880.
Teknað hevur Mads Guttesen.
Name: sorvags/Bøur_1880
Description: Skannað tekning av Bíggjar bygd í 1880.
Teknað hevur Mads Guttesen.
Single Fused Map Cache: false
Extent:
XMin: 180581.63871241908
YMin: 886442.3798757286
XMax: 180911.08596511467
YMax: 886707.5038188286
Spatial Reference: 5316
(5316)
Initial Extent:
XMin: 180581.63871241908
YMin: 886442.3798757286
XMax: 180911.08596511467
YMax: 886707.5038188286
Spatial Reference: 5316
(5316)
Full Extent:
XMin: 180581.63871241908
YMin: 886442.3798757286
XMax: 180911.08596511467
YMax: 886707.5038188286
Spatial Reference: 5316
(5316)
Pixel Size X: 0.042064255962154525
Pixel Size Y: 0.042658719726465795
Band Count: 3
Pixel Type: U8
RasterFunction Infos: {"name":"None","description":"","help":""}
Mensuration Capabilities: Basic
Has Histograms: true
Has Colormap: false
Has Multi Dimensions : false
Rendering Rule:
Min Scale: 0
Max Scale: 0
Copyright Text:
Service Data Type: esriImageServiceDataTypeRGB
Min Values: 0, 0, 0
Max Values: 255, 255, 255
Mean Values: 238.5502349978712, 244.1725106318206, 241.26111761013524
Standard Deviation Values: 29.64368529952154, 24.442964953600683, 29.392343456474055
Object ID Field:
Fields:
None
Default Mosaic Method: Center
Allowed Mosaic Methods:
SortField:
SortValue: null
Mosaic Operator: First
Default Compression Quality: 75
Default Resampling Method: Bilinear
Max Record Count: null
Max Image Height: 4100
Max Image Width: 15000
Max Download Image Count: null
Max Mosaic Image Count: null
Allow Raster Function: true
Allow Compute TiePoints: false
Supports Statistics: false
Supports Advanced Queries: false
Use StandardizedQueries: false
Raster Type Infos:
Name: Raster Dataset
Description: Supports all ArcGIS Raster Datasets
Help:
Has Raster Attribute Table: false
Edit Fields Info: null
Ownership Based AccessControl For Rasters: null
Child Resources:
Info
Histograms
Key Properties
Legend
MultiDimensionalInfo
rasterFunctionInfos
Supported Operations:
Export Image
Identify
Measure
Compute Histograms
Compute Statistics Histograms
Get Samples
Compute Class Statistics