View In:
ArcGIS JavaScript
ArcGIS Online map viewer
Google Earth
ArcMap
View Footprint In:
ArcGIS Online map viewer
Service Description: sjovar/Sjovar_strandalinja_fotm
Name: sjovar/Sjovar_strandalinja_fotm
Description: sjovar/Sjovar_strandalinja_fotm
Single Fused Map Cache: false
Extent:
XMin: 210622.96056635756
YMin: 886199.794093278
XMax: 216182.8504847109
YMax: 893963.724089502
Spatial Reference: 5316
(5316)
Initial Extent:
XMin: 210622.96056635756
YMin: 886199.794093278
XMax: 216182.8504847109
YMax: 893963.724089502
Spatial Reference: 5316
(5316)
Full Extent:
XMin: 210622.96056635756
YMin: 886199.794093278
XMax: 216182.8504847109
YMax: 893963.724089502
Spatial Reference: 5316
(5316)
Pixel Size X: 7.574781905113556
Pixel Size Y: 7.581962886937504
Band Count: 3
Pixel Type: U8
RasterFunction Infos: {"name":"None","description":"","help":""}
Mensuration Capabilities: Basic
Has Histograms: true
Has Colormap: false
Has Multi Dimensions : false
Rendering Rule:
Min Scale: 0
Max Scale: 0
Copyright Text:
Service Data Type: esriImageServiceDataTypeRGB
Min Values: 0, 0, 0
Max Values: 255, 255, 255
Mean Values: 247.48887092090354, 247.50600156017788, 247.4992697342573
Standard Deviation Values: 31.405430387259898, 31.33483819537064, 31.360672517700998
Object ID Field:
Fields:
None
Default Mosaic Method: Center
Allowed Mosaic Methods:
SortField:
SortValue: null
Mosaic Operator: First
Default Compression Quality: 75
Default Resampling Method: Bilinear
Max Record Count: null
Max Image Height: 4100
Max Image Width: 15000
Max Download Image Count: null
Max Mosaic Image Count: null
Allow Raster Function: true
Allow Compute TiePoints: false
Supports Statistics: false
Supports Advanced Queries: false
Use StandardizedQueries: false
Raster Type Infos:
Name: Raster Dataset
Description: Supports all ArcGIS Raster Datasets
Help:
Has Raster Attribute Table: false
Edit Fields Info: null
Ownership Based AccessControl For Rasters: null
Child Resources:
Info
Histograms
Key Properties
Legend
MultiDimensionalInfo
rasterFunctionInfos
Supported Operations:
Export Image
Identify
Measure
Compute Histograms
Compute Statistics Histograms
Get Samples
Compute Class Statistics