View In:
ArcGIS JavaScript
ArcGIS Online map viewer
Google Earth
ArcMap
View Footprint In:
ArcGIS Online map viewer
Service Description: sjovar/Sjovar_stadarnavnakort_JCD
Name: sjovar/Sjovar_stadarnavnakort_JCD
Description: sjovar/Sjovar_stadarnavnakort_JCD
Single Fused Map Cache: false
Extent:
XMin: 212319.18846209924
YMin: 888727.7146663539
XMax: 213154.4132256953
YMax: 890901.988222344
Spatial Reference: 5316
(5316)
Initial Extent:
XMin: 212319.18846209924
YMin: 888727.7146663539
XMax: 213154.4132256953
YMax: 890901.988222344
Spatial Reference: 5316
(5316)
Full Extent:
XMin: 212319.18846209924
YMin: 888727.7146663539
XMax: 213154.4132256953
YMax: 890901.988222344
Spatial Reference: 5316
(5316)
Pixel Size X: 0.7909325412841403
Pixel Size Y: 0.7909325412841308
Band Count: 3
Pixel Type: U8
RasterFunction Infos: {"name":"None","description":"","help":""}
Mensuration Capabilities: Basic
Has Histograms: true
Has Colormap: false
Has Multi Dimensions : false
Rendering Rule:
Min Scale: 0
Max Scale: 0
Copyright Text:
Service Data Type: esriImageServiceDataTypeRGB
Min Values: 0, 0, 0
Max Values: 255, 255, 255
Mean Values: 246.75651585504409, 246.59722422793425, 242.9104012495138
Standard Deviation Values: 28.82225765926283, 28.957136797490264, 36.677129980597286
Object ID Field:
Fields:
None
Default Mosaic Method: Center
Allowed Mosaic Methods:
SortField:
SortValue: null
Mosaic Operator: First
Default Compression Quality: 75
Default Resampling Method: Bilinear
Max Record Count: null
Max Image Height: 4100
Max Image Width: 15000
Max Download Image Count: null
Max Mosaic Image Count: null
Allow Raster Function: true
Allow Compute TiePoints: false
Supports Statistics: false
Supports Advanced Queries: false
Use StandardizedQueries: false
Raster Type Infos:
Name: Raster Dataset
Description: Supports all ArcGIS Raster Datasets
Help:
Has Raster Attribute Table: false
Edit Fields Info: null
Ownership Based AccessControl For Rasters: null
Child Resources:
Info
Histograms
Key Properties
Legend
MultiDimensionalInfo
rasterFunctionInfos
Supported Operations:
Export Image
Identify
Measure
Compute Histograms
Compute Statistics Histograms
Get Samples
Compute Class Statistics