View In:
ArcGIS JavaScript
ArcGIS Online map viewer
Google Earth
ArcMap
View Footprint In:
ArcGIS Online map viewer
Service Description: sjovar/Sjovar_stadarnavnakort_Fjordan
Name: sjovar/Sjovar_stadarnavnakort_Fjordan
Description: sjovar/Sjovar_stadarnavnakort_Fjordan
Single Fused Map Cache: false
Extent:
XMin: 205129.63529146096
YMin: 885994.7610214513
XMax: 215225.09289232505
YMax: 893285.8719407471
Spatial Reference: 5316
(5316)
Initial Extent:
XMin: 205129.63529146096
YMin: 885994.7610214513
XMax: 215225.09289232505
YMax: 893285.8719407471
Spatial Reference: 5316
(5316)
Full Extent:
XMin: 205129.63529146096
YMin: 885994.7610214513
XMax: 215225.09289232505
YMax: 893285.8719407471
Spatial Reference: 5316
(5316)
Pixel Size X: 0.5192335339641047
Pixel Size Y: 0.5192359293046439
Band Count: 3
Pixel Type: U8
RasterFunction Infos: {"name":"None","description":"","help":""}
Mensuration Capabilities: Basic
Has Histograms: true
Has Colormap: false
Has Multi Dimensions : false
Rendering Rule:
Min Scale: 0
Max Scale: 0
Copyright Text:
Service Data Type: esriImageServiceDataTypeRGB
Min Values: 0, 0, 0
Max Values: 255, 255, 255
Mean Values: 232.54827555831847, 235.6522986065497, 234.3966682071252
Standard Deviation Values: 31.239861167629584, 33.908049880673246, 36.115430315034544
Object ID Field:
Fields:
None
Default Mosaic Method: Center
Allowed Mosaic Methods:
SortField:
SortValue: null
Mosaic Operator: First
Default Compression Quality: 75
Default Resampling Method: Bilinear
Max Record Count: null
Max Image Height: 4100
Max Image Width: 15000
Max Download Image Count: null
Max Mosaic Image Count: null
Allow Raster Function: true
Allow Compute TiePoints: false
Supports Statistics: false
Supports Advanced Queries: false
Use StandardizedQueries: false
Raster Type Infos:
Name: Raster Dataset
Description: Supports all ArcGIS Raster Datasets
Help:
Has Raster Attribute Table: false
Edit Fields Info: null
Ownership Based AccessControl For Rasters: null
Child Resources:
Info
Histograms
Key Properties
Legend
MultiDimensionalInfo
rasterFunctionInfos
Supported Operations:
Export Image
Identify
Measure
Compute Histograms
Compute Statistics Histograms
Get Samples
Compute Class Statistics