View In:
ArcGIS JavaScript
ArcGIS Online map viewer
Google Earth
ArcMap
View Footprint In:
ArcGIS Online map viewer
Service Description: Myndakort av Nes kommunu. Myndakort var keypt av Nes kommunu frá FDS og kann vera bara brúkt av Nes kommunu.
Name: nes/nes_myndakort
Description: Myndakort av Nes kommunu. Myndakort var keypt av Nes kommunu frá FDS og kann vera bara brúkt av Nes kommunu.
Single Fused Map Cache: false
Extent:
XMin: 617398.7412497492
YMin: 6882362.216689989
XMax: 623657.7721850672
YMax: 6889636.006207557
Spatial Reference: 32629
(32629)
Initial Extent:
XMin: 617398.7412497492
YMin: 6882362.216689989
XMax: 623657.7721850672
YMax: 6889636.006207557
Spatial Reference: 32629
(32629)
Full Extent:
XMin: 617398.7412497492
YMin: 6882362.216689989
XMax: 623657.7721850672
YMax: 6889636.006207557
Spatial Reference: 32629
(32629)
Pixel Size X: 0.13996670099999947
Pixel Size Y: 0.13996670100000816
Band Count: 3
Pixel Type: U8
RasterFunction Infos: {"name":"None","description":"","help":""}
Mensuration Capabilities: Basic
Has Histograms: true
Has Colormap: false
Has Multi Dimensions : false
Rendering Rule:
Min Scale: 200000
Max Scale: 250
Copyright Text:
Service Data Type: esriImageServiceDataTypeRGB
Min Values: 0, 0, 0
Max Values: 255, 255, 255
Mean Values: 57.12538117170544, 85.86446063384633, 80.4662285649194
Standard Deviation Values: 58.66133126335649, 56.60983455928313, 47.386389255038075
Object ID Field: objectid
Fields:
-
objectid
(
type: esriFieldTypeOID
, alias: objectid
)
-
name
(
type: esriFieldTypeString
, alias: name
, length: 50
)
-
minps
(
type: esriFieldTypeDouble
, alias: minps
)
-
maxps
(
type: esriFieldTypeDouble
, alias: maxps
)
-
lowps
(
type: esriFieldTypeDouble
, alias: lowps
)
-
highps
(
type: esriFieldTypeDouble
, alias: highps
)
-
category
(
type: esriFieldTypeInteger
, alias: category
, Coded Values:
[0: Unknown]
, [1: Primary]
, [2: Overview]
, ...5 more...
)
-
tag
(
type: esriFieldTypeString
, alias: tag
, length: 20
)
-
groupname
(
type: esriFieldTypeString
, alias: groupname
, length: 50
)
-
productname
(
type: esriFieldTypeString
, alias: productname
, length: 50
)
-
centerx
(
type: esriFieldTypeDouble
, alias: centerx
)
-
centery
(
type: esriFieldTypeDouble
, alias: centery
)
-
zorder
(
type: esriFieldTypeInteger
, alias: zorder
)
-
shape
(
type: esriFieldTypeGeometry
, alias: shape
)
-
thumbnail
(
type: esriFieldTypeBlob
, alias: thumbnail
)
-
st_area(shape)
(
type: esriFieldTypeDouble
, alias: st_area(shape)
)
-
st_length(shape)
(
type: esriFieldTypeDouble
, alias: st_length(shape)
)
Default Mosaic Method: Northwest
Allowed Mosaic Methods: NorthWest,Center,LockRaster,ByAttribute,Nadir,Viewpoint,Seamline,None
SortField:
SortValue: null
Mosaic Operator: First
Default Compression Quality: 75
Default Resampling Method: Bilinear
Max Record Count: 1000
Max Image Height: 4100
Max Image Width: 15000
Max Download Image Count: 20
Max Mosaic Image Count: 20
Allow Raster Function: true
Allow Compute TiePoints: false
Supports Statistics: true
Supports Advanced Queries: true
Use StandardizedQueries: false
Raster Type Infos:
Name: Raster Dataset
Description: Supports all ArcGIS Raster Datasets
Help:
Has Raster Attribute Table: false
Edit Fields Info: null
Ownership Based AccessControl For Rasters: null
Child Resources:
Info
Histograms
Key Properties
Legend
MultiDimensionalInfo
rasterFunctionInfos
Supported Operations:
Export Image
Query
Identify
Measure
Compute Histograms
Compute Statistics Histograms
Get Samples
Compute Class Statistics