View In:
ArcGIS JavaScript
ArcGIS Online map viewer
Google Earth
ArcMap
View Footprint In:
ArcGIS Online map viewer
Service Description: Myndakort yvir viðarlundina og kirkjugarðin úti í Grøv í Klaksvík
Name: klaksvikar/klaksvik_utiigrov
Description: Myndakort yvir viðarlundina og kirkjugarðin úti í Grøv í Klaksvík
Single Fused Map Cache: false
Extent:
XMin: 222607.029085012
YMin: 901701.0482747711
XMax: 223085.12452429507
YMax: 902284.1170181163
Spatial Reference: PROJCS["ETRS_1989_FAROE_TM",GEOGCS["GCS_ETRS_1989",DATUM["D_ETRS_1989",SPHEROID["GRS_1980",6378137.0,298.257222101]],PRIMEM["Greenwich",0.0],UNIT["Degree",0.0174532925199433]],PROJECTION["Transverse_Mercator"],PARAMETER["False_Easting",200000.0],PARAMETER["False_Northing",-6000000.0],PARAMETER["Central_Meridian",-7.0],PARAMETER["Scale_Factor",0.999997],PARAMETER["Latitude_Of_Origin",0.0],UNIT["Meter",1.0]],VERTCS["unknown",VDATUM["unknown"],PARAMETER["Vertical_Shift",0.0],PARAMETER["Direction",1.0],UNIT["Meter",1.0]]
Initial Extent:
XMin: 222607.029085012
YMin: 901701.0482747711
XMax: 223085.12452429507
YMax: 902284.1170181163
Spatial Reference: PROJCS["ETRS_1989_FAROE_TM",GEOGCS["GCS_ETRS_1989",DATUM["D_ETRS_1989",SPHEROID["GRS_1980",6378137.0,298.257222101]],PRIMEM["Greenwich",0.0],UNIT["Degree",0.0174532925199433]],PROJECTION["Transverse_Mercator"],PARAMETER["False_Easting",200000.0],PARAMETER["False_Northing",-6000000.0],PARAMETER["Central_Meridian",-7.0],PARAMETER["Scale_Factor",0.999997],PARAMETER["Latitude_Of_Origin",0.0],UNIT["Meter",1.0]],VERTCS["unknown",VDATUM["unknown"],PARAMETER["Vertical_Shift",0.0],PARAMETER["Direction",1.0],UNIT["Meter",1.0]]
Full Extent:
XMin: 222607.029085012
YMin: 901701.0482747711
XMax: 223085.12452429507
YMax: 902284.1170181163
Spatial Reference: PROJCS["ETRS_1989_FAROE_TM",GEOGCS["GCS_ETRS_1989",DATUM["D_ETRS_1989",SPHEROID["GRS_1980",6378137.0,298.257222101]],PRIMEM["Greenwich",0.0],UNIT["Degree",0.0174532925199433]],PROJECTION["Transverse_Mercator"],PARAMETER["False_Easting",200000.0],PARAMETER["False_Northing",-6000000.0],PARAMETER["Central_Meridian",-7.0],PARAMETER["Scale_Factor",0.999997],PARAMETER["Latitude_Of_Origin",0.0],UNIT["Meter",1.0]],VERTCS["unknown",VDATUM["unknown"],PARAMETER["Vertical_Shift",0.0],PARAMETER["Direction",1.0],UNIT["Meter",1.0]]
Pixel Size X: 0.016100200009532273
Pixel Size Y: 0.016100200009532273
Band Count: 4
Pixel Type: U8
RasterFunction Infos: {"name":"None","description":"","help":""}
Mensuration Capabilities: Basic
Has Histograms: true
Has Colormap: false
Has Multi Dimensions : false
Rendering Rule:
Min Scale: 0
Max Scale: 0
Copyright Text: © Munin 2020
Service Data Type: esriImageServiceDataTypeGeneric
Min Values: 1, 1, 1, 255
Max Values: 255, 255, 255, 255
Mean Values: 127.46710001723, 120.98853682204, 100.08387283725, 255
Standard Deviation Values: 47.68071485114, 44.235636131987, 44.618733296232, 0
Object ID Field:
Fields:
None
Default Mosaic Method: Center
Allowed Mosaic Methods:
SortField:
SortValue: null
Mosaic Operator: First
Default Compression Quality: 75
Default Resampling Method: Bilinear
Max Record Count: null
Max Image Height: 4100
Max Image Width: 15000
Max Download Image Count: null
Max Mosaic Image Count: null
Allow Raster Function: true
Allow Compute TiePoints: false
Supports Statistics: false
Supports Advanced Queries: false
Use StandardizedQueries: false
Raster Type Infos:
Name: Raster Dataset
Description: Supports all ArcGIS Raster Datasets
Help:
Has Raster Attribute Table: false
Edit Fields Info: null
Ownership Based AccessControl For Rasters: null
Child Resources:
Info
Histograms
Key Properties
Legend
MultiDimensionalInfo
rasterFunctionInfos
Supported Operations:
Export Image
Identify
Measure
Compute Histograms
Compute Statistics Histograms
Get Samples
Compute Class Statistics