View In:
ArcGIS JavaScript
ArcGIS Online map viewer
Google Earth
ArcMap
View Footprint In:
ArcGIS Online map viewer
Service Description: Hugsað støðumynd av Bíggjar bygd í 1150
Name: sorvags/Stad_Bour_1150
Description: Hugsað støðumynd av Bíggjar bygd í 1150
Single Fused Map Cache: false
Extent:
XMin: 180484.2220722327
YMin: 886471.6154270312
XMax: 180760.27818883728
YMax: 886697.2799852387
Spatial Reference: 5316
(5316)
Initial Extent:
XMin: 180484.2220722327
YMin: 886471.6154270312
XMax: 180760.27818883728
YMax: 886697.2799852387
Spatial Reference: 5316
(5316)
Full Extent:
XMin: 180484.2220722327
YMin: 886471.6154270312
XMax: 180760.27818883728
YMax: 886697.2799852387
Spatial Reference: 5316
(5316)
Pixel Size X: 0.06896230742058343
Pixel Size Y: 0.03791407227948585
Band Count: 3
Pixel Type: U8
RasterFunction Infos: {"name":"None","description":"","help":""}
Mensuration Capabilities: Basic
Has Histograms: true
Has Colormap: false
Has Multi Dimensions : false
Rendering Rule:
Min Scale: 0
Max Scale: 0
Copyright Text:
Service Data Type: esriImageServiceDataTypeRGB
Min Values: 0, 8, 0
Max Values: 255, 255, 255
Mean Values: 237.99182099963855, 244.85508376021176, 237.4115577874994
Standard Deviation Values: 26.35761079917887, 21.08801569434583, 28.173916332313972
Object ID Field:
Fields:
None
Default Mosaic Method: Center
Allowed Mosaic Methods:
SortField:
SortValue: null
Mosaic Operator: First
Default Compression Quality: 75
Default Resampling Method: Bilinear
Max Record Count: null
Max Image Height: 4100
Max Image Width: 15000
Max Download Image Count: null
Max Mosaic Image Count: null
Allow Raster Function: true
Allow Compute TiePoints: false
Supports Statistics: false
Supports Advanced Queries: false
Use StandardizedQueries: false
Raster Type Infos:
Name: Raster Dataset
Description: Supports all ArcGIS Raster Datasets
Help:
Has Raster Attribute Table: false
Edit Fields Info: null
Ownership Based AccessControl For Rasters: null
Child Resources:
Info
Histograms
Key Properties
Legend
MultiDimensionalInfo
rasterFunctionInfos
Supported Operations:
Export Image
Identify
Measure
Compute Histograms
Compute Statistics Histograms
Get Samples
Compute Class Statistics