{
 "currentVersion": 10.51,
 "serviceDescription": "sjovar/Sjovar_stadarnavnakort_OD",
 "name": "sjovar/Sjovar_stadarnavnakort_OD",
 "description": "sjovar/Sjovar_stadarnavnakort_OD",
 "extent": {
  "xmin": 210622.96056635756,
  "ymin": 886199.794093278,
  "xmax": 216182.8504847109,
  "ymax": 893963.724089502,
  "spatialReference": {
   "wkid": 5316,
   "latestWkid": 5316
  }
 },
 "initialExtent": {
  "xmin": 210622.96056635756,
  "ymin": 886199.794093278,
  "xmax": 216182.8504847109,
  "ymax": 893963.724089502,
  "spatialReference": {
   "wkid": 5316,
   "latestWkid": 5316
  }
 },
 "fullExtent": {
  "xmin": 210622.96056635756,
  "ymin": 886199.794093278,
  "xmax": 216182.8504847109,
  "ymax": 893963.724089502,
  "spatialReference": {
   "wkid": 5316,
   "latestWkid": 5316
  }
 },
 "heightModelInfo": {
  "heightModel": "orthometric",
  "heightUnit": "meter"
 },
 "pixelSizeX": 7.574781905113556,
 "pixelSizeY": 7.581962886937504,
 "bandCount": 3,
 "pixelType": "U8",
 "minPixelSize": 0,
 "maxPixelSize": 0,
 "copyrightText": "",
 "serviceDataType": "esriImageServiceDataTypeRGB",
 "minValues": [
  0,
  0,
  0
 ],
 "maxValues": [
  255,
  255,
  255
 ],
 "meanValues": [
  247.48887092090354,
  247.50600156017788,
  247.4992697342573
 ],
 "stdvValues": [
  31.405430387259898,
  31.33483819537064,
  31.360672517700998
 ],
 "objectIdField": "",
 "fields": [],
 "capabilities": "Image,Metadata,Mensuration",
 "defaultMosaicMethod": "Center",
 "allowedMosaicMethods": "",
 "sortField": "",
 "sortValue": null,
 "mosaicOperator": "First",
 "defaultCompressionQuality": 75,
 "defaultResamplingMethod": "Bilinear",
 "maxImageHeight": 4100,
 "maxImageWidth": 15000,
 "allowRasterFunction": true,
 "rasterFunctionInfos": [
  {
   "name": "None",
   "description": "",
   "help": ""
  }
 ],
 "rasterTypeInfos": [
  {
   "name": "Raster Dataset",
   "description": "Supports all ArcGIS Raster Datasets",
   "help": ""
  }
 ],
 "mensurationCapabilities": "Basic",
 "hasHistograms": true,
 "hasColormap": false,
 "hasRasterAttributeTable": false,
 "minScale": 0,
 "maxScale": 0,
 "exportTilesAllowed": false,
 "hasMultidimensions": false,
 "supportsStatistics": false,
 "supportsAdvancedQueries": false,
 "editFieldsInfo": null,
 "ownershipBasedAccessControlForRasters": null,
 "allowComputeTiePoints": false,
 "useStandardizedQueries": false,
 "advancedQueryCapabilities": {
  "useStandardizedQueries": false,
  "supportsStatistics": false,
  "supportsOrderBy": false,
  "supportsDistinct": false,
  "supportsPagination": false
 },
 "spatialReference": {
  "wkid": 5316,
  "latestWkid": 5316
 }
}
