{
 "currentVersion": 10.51,
 "serviceDescription": "Myndakort av Fuglafirði frá 1958. Kortið er partur av tilfari til Fuglafjarðar søgu.",
 "name": "fuglafjardar/Fuglafjordur_1958",
 "description": "Myndakort av Fuglafirði frá 1958. Kortið er partur av tilfari til Fuglafjarðar søgu.",
 "extent": {
  "xmin": 612493.6932584458,
  "ymin": 6901309.219697168,
  "xmax": 614945.0291431176,
  "ymax": 6903873.743898836,
  "spatialReference": {
   "wkid": 32629,
   "latestWkid": 32629
  }
 },
 "initialExtent": {
  "xmin": 612493.6932584458,
  "ymin": 6901309.219697168,
  "xmax": 614945.0291431176,
  "ymax": 6903873.743898836,
  "spatialReference": {
   "wkid": 32629,
   "latestWkid": 32629
  }
 },
 "fullExtent": {
  "xmin": 612493.6932584458,
  "ymin": 6901309.219697168,
  "xmax": 614945.0291431176,
  "ymax": 6903873.743898836,
  "spatialReference": {
   "wkid": 32629,
   "latestWkid": 32629
  }
 },
 "heightModelInfo": {
  "heightModel": "orthometric",
  "heightUnit": "meter"
 },
 "pixelSizeX": 0.6455980733926191,
 "pixelSizeY": 0.4722880666055005,
 "bandCount": 3,
 "pixelType": "U8",
 "minPixelSize": 0,
 "maxPixelSize": 0,
 "copyrightText": "",
 "serviceDataType": "esriImageServiceDataTypeRGB",
 "minValues": [
  0,
  0,
  0
 ],
 "maxValues": [
  255,
  255,
  255
 ],
 "meanValues": [
  114.16130297688,
  114.16130297688,
  114.16130297688
 ],
 "stdvValues": [
  62.545078095472,
  62.545078095472,
  62.545078095472
 ],
 "objectIdField": "",
 "fields": [],
 "capabilities": "Image,Metadata,Mensuration",
 "defaultMosaicMethod": "Center",
 "allowedMosaicMethods": "",
 "sortField": "",
 "sortValue": null,
 "mosaicOperator": "First",
 "defaultCompressionQuality": 75,
 "defaultResamplingMethod": "Bilinear",
 "maxImageHeight": 4100,
 "maxImageWidth": 15000,
 "allowRasterFunction": true,
 "rasterFunctionInfos": [
  {
   "name": "None",
   "description": "",
   "help": ""
  }
 ],
 "rasterTypeInfos": [
  {
   "name": "Raster Dataset",
   "description": "Supports all ArcGIS Raster Datasets",
   "help": ""
  }
 ],
 "mensurationCapabilities": "Basic",
 "hasHistograms": true,
 "hasColormap": false,
 "hasRasterAttributeTable": false,
 "minScale": 0,
 "maxScale": 0,
 "exportTilesAllowed": false,
 "hasMultidimensions": false,
 "supportsStatistics": false,
 "supportsAdvancedQueries": false,
 "editFieldsInfo": null,
 "ownershipBasedAccessControlForRasters": null,
 "allowComputeTiePoints": false,
 "useStandardizedQueries": false,
 "advancedQueryCapabilities": {
  "useStandardizedQueries": false,
  "supportsStatistics": false,
  "supportsOrderBy": false,
  "supportsDistinct": false,
  "supportsPagination": false
 },
 "spatialReference": {
  "wkid": 32629,
  "latestWkid": 32629
 }
}
