View In:
ArcGIS JavaScript
ArcGIS Online map viewer
Google Earth
ArcMap
View Footprint In:
ArcGIS Online map viewer
Service Description: Myndakort av Fuglafirði frá 1958. Kortið er partur av tilfari til Fuglafjarðar søgu.
Name: fuglafjardar/Fuglafjordur_1958
Description: Myndakort av Fuglafirði frá 1958. Kortið er partur av tilfari til Fuglafjarðar søgu.
Single Fused Map Cache: false
Extent:
XMin: 612493.6932584458
YMin: 6901309.219697168
XMax: 614945.0291431176
YMax: 6903873.743898836
Spatial Reference: 32629
(32629)
Initial Extent:
XMin: 612493.6932584458
YMin: 6901309.219697168
XMax: 614945.0291431176
YMax: 6903873.743898836
Spatial Reference: 32629
(32629)
Full Extent:
XMin: 612493.6932584458
YMin: 6901309.219697168
XMax: 614945.0291431176
YMax: 6903873.743898836
Spatial Reference: 32629
(32629)
Pixel Size X: 0.6455980733926191
Pixel Size Y: 0.4722880666055005
Band Count: 3
Pixel Type: U8
RasterFunction Infos: {"name":"None","description":"","help":""}
Mensuration Capabilities: Basic
Has Histograms: true
Has Colormap: false
Has Multi Dimensions : false
Rendering Rule:
Min Scale: 0
Max Scale: 0
Copyright Text:
Service Data Type: esriImageServiceDataTypeRGB
Min Values: 0, 0, 0
Max Values: 255, 255, 255
Mean Values: 114.16130297688, 114.16130297688, 114.16130297688
Standard Deviation Values: 62.545078095472, 62.545078095472, 62.545078095472
Object ID Field:
Fields:
None
Default Mosaic Method: Center
Allowed Mosaic Methods:
SortField:
SortValue: null
Mosaic Operator: First
Default Compression Quality: 75
Default Resampling Method: Bilinear
Max Record Count: null
Max Image Height: 4100
Max Image Width: 15000
Max Download Image Count: null
Max Mosaic Image Count: null
Allow Raster Function: true
Allow Compute TiePoints: false
Supports Statistics: false
Supports Advanced Queries: false
Use StandardizedQueries: false
Raster Type Infos:
Name: Raster Dataset
Description: Supports all ArcGIS Raster Datasets
Help:
Has Raster Attribute Table: false
Edit Fields Info: null
Ownership Based AccessControl For Rasters: null
Child Resources:
Info
Histograms
Key Properties
Legend
MultiDimensionalInfo
rasterFunctionInfos
Supported Operations:
Export Image
Identify
Measure
Compute Histograms
Compute Statistics Histograms
Get Samples
Compute Class Statistics